BEGIN:VCALENDAR
VERSION:2.0
PRODID:-//Knox Presbyterian Church - ECPv6.15.15//NONSGML v1.0//EN
CALSCALE:GREGORIAN
METHOD:PUBLISH
X-WR-CALNAME:Knox Presbyterian Church
X-ORIGINAL-URL:https://knoxstthomas.ca
X-WR-CALDESC:Events for Knox Presbyterian Church
REFRESH-INTERVAL;VALUE=DURATION:PT1H
X-Robots-Tag:noindex
X-PUBLISHED-TTL:PT1H
BEGIN:VTIMEZONE
TZID:America/Toronto
BEGIN:DAYLIGHT
TZOFFSETFROM:-0500
TZOFFSETTO:-0400
TZNAME:EDT
DTSTART:20250309T070000
END:DAYLIGHT
BEGIN:STANDARD
TZOFFSETFROM:-0400
TZOFFSETTO:-0500
TZNAME:EST
DTSTART:20251102T060000
END:STANDARD
BEGIN:DAYLIGHT
TZOFFSETFROM:-0500
TZOFFSETTO:-0400
TZNAME:EDT
DTSTART:20260308T070000
END:DAYLIGHT
BEGIN:STANDARD
TZOFFSETFROM:-0400
TZOFFSETTO:-0500
TZNAME:EST
DTSTART:20261101T060000
END:STANDARD
BEGIN:DAYLIGHT
TZOFFSETFROM:-0500
TZOFFSETTO:-0400
TZNAME:EDT
DTSTART:20270314T070000
END:DAYLIGHT
BEGIN:STANDARD
TZOFFSETFROM:-0400
TZOFFSETTO:-0500
TZNAME:EST
DTSTART:20271107T060000
END:STANDARD
END:VTIMEZONE
BEGIN:VEVENT
DTSTART;TZID=America/Toronto:20260305T133000
DTEND;TZID=America/Toronto:20260305T133000
DTSTAMP:20260420T105123
CREATED:20260211T174239Z
LAST-MODIFIED:20260211T174245Z
UID:2142-1772717400-1772717400@knoxstthomas.ca
SUMMARY:Strummin’ Ukes of Southwold
DESCRIPTION:Pastoral Care event in Rodney Hall. All are welcome! \n 
URL:https://knoxstthomas.ca/event/strummin-ukes-of-southwold/
LOCATION:Rodney Hall
ATTACH;FMTTYPE=image/jpeg:https://knoxstthomas.ca/wp-content/uploads/2026/02/DSC_5919-e1770831735925.jpg
END:VEVENT
BEGIN:VEVENT
DTSTART;VALUE=DATE:20260306
DTEND;VALUE=DATE:20260309
DTSTAMP:20260420T105123
CREATED:20260211T202213Z
LAST-MODIFIED:20260211T202219Z
UID:2147-1772755200-1773014399@knoxstthomas.ca
SUMMARY:The Kintail Women’s Retreat
DESCRIPTION:The theme for the weekend is “Recharging Your Soul”\, and the cost is $150. If you would like more information or to secure your spot\, please speak to Meghan. Registration closes February 23rd.
URL:https://knoxstthomas.ca/event/the-kintail-womens-retreat/
ATTACH;FMTTYPE=image/jpeg:https://knoxstthomas.ca/wp-content/uploads/2026/02/488909046_1067761738711513_1003140929527864388_n-e1770841322460.jpg
END:VEVENT
BEGIN:VEVENT
DTSTART;TZID=America/Toronto:20260307T090000
DTEND;TZID=America/Toronto:20260307T100000
DTSTAMP:20260420T105123
CREATED:20260211T201213Z
LAST-MODIFIED:20260211T201224Z
UID:2145-1772874000-1772877600@knoxstthomas.ca
SUMMARY:Knox Breakfast Club
DESCRIPTION:$2 per person or $5 per family for pancakes\, sausage\, fruit\, juice\, coffee\, tea & more.
URL:https://knoxstthomas.ca/event/knox-breakfast-club-9/
LOCATION:Rodney Hall
ATTACH;FMTTYPE=image/jpeg:https://knoxstthomas.ca/wp-content/uploads/2024/01/IMG_8855-rotated-e1732427504565.jpg
END:VEVENT
BEGIN:VEVENT
DTSTART;TZID=America/Toronto:20260322T113000
DTEND;TZID=America/Toronto:20260322T113000
DTSTAMP:20260420T105123
CREATED:20260211T202428Z
LAST-MODIFIED:20260211T202432Z
UID:2150-1774179000-1774179000@knoxstthomas.ca
SUMMARY:Annual Congregational Meeting
DESCRIPTION:Join us following coffee break as we reflect on the last year and look to the future (bring a sandwich\, if you think you will be hungry!). Annual reports will be ready to pick up on Sunday March 8th.
URL:https://knoxstthomas.ca/event/annual-congregational-meeting/
LOCATION:Rodney Hall
ATTACH;FMTTYPE=image/jpeg:https://knoxstthomas.ca/wp-content/uploads/2025/01/Knox-Logo169.jpg
END:VEVENT
BEGIN:VEVENT
DTSTART;VALUE=DATE:20260328
DTEND;VALUE=DATE:20260329
DTSTAMP:20260420T105123
CREATED:20260211T202647Z
LAST-MODIFIED:20260211T202653Z
UID:2152-1774656000-1774742399@knoxstthomas.ca
SUMMARY:Rummage Sale
DESCRIPTION:All donations will be accepted on March 26th 1-4\, March 27th 10-7pm. We will not be accepting any furniture or baby/children car seats. If you have a question please contact Pam O’Sullivan. Calls will be going out for volunteers.
URL:https://knoxstthomas.ca/event/rummage-sale-2/
LOCATION:Rodney Hall
ATTACH;FMTTYPE=image/png:https://knoxstthomas.ca/wp-content/uploads/2024/02/rummage-sale-e1739664644760.png
END:VEVENT
END:VCALENDAR