BEGIN:VCALENDAR
VERSION:2.0
PRODID:-//Knox Presbyterian Church - ECPv6.15.15//NONSGML v1.0//EN
CALSCALE:GREGORIAN
METHOD:PUBLISH
X-ORIGINAL-URL:https://knoxstthomas.ca
X-WR-CALDESC:Events for Knox Presbyterian Church
REFRESH-INTERVAL;VALUE=DURATION:PT1H
X-Robots-Tag:noindex
X-PUBLISHED-TTL:PT1H
BEGIN:VTIMEZONE
TZID:America/Toronto
BEGIN:DAYLIGHT
TZOFFSETFROM:-0500
TZOFFSETTO:-0400
TZNAME:EDT
DTSTART:20250309T070000
END:DAYLIGHT
BEGIN:STANDARD
TZOFFSETFROM:-0400
TZOFFSETTO:-0500
TZNAME:EST
DTSTART:20251102T060000
END:STANDARD
BEGIN:DAYLIGHT
TZOFFSETFROM:-0500
TZOFFSETTO:-0400
TZNAME:EDT
DTSTART:20260308T070000
END:DAYLIGHT
BEGIN:STANDARD
TZOFFSETFROM:-0400
TZOFFSETTO:-0500
TZNAME:EST
DTSTART:20261101T060000
END:STANDARD
BEGIN:DAYLIGHT
TZOFFSETFROM:-0500
TZOFFSETTO:-0400
TZNAME:EDT
DTSTART:20270314T070000
END:DAYLIGHT
BEGIN:STANDARD
TZOFFSETFROM:-0400
TZOFFSETTO:-0500
TZNAME:EST
DTSTART:20271107T060000
END:STANDARD
END:VTIMEZONE
BEGIN:VEVENT
DTSTART;TZID=America/Toronto:20260116T190000
DTEND;TZID=America/Toronto:20260116T190000
DTSTAMP:20260420T143720
CREATED:20260103T182131Z
LAST-MODIFIED:20260103T182323Z
UID:2030-1768590000-1768590000@knoxstthomas.ca
SUMMARY:Three of a Kind "The Final Frontier"
DESCRIPTION:Don’t miss your chance to catch the fifth appearance of the wildly fun\, always entertaining and certainly unpredictable musical trio “Three of a Kind.” Doors open at 6pm. Tickets are $30 per person. You can get tickets by reserving them online and pay at the door\, from the office Monday to Thursday 9 am to 1 pm\, or by calling 519-631-2414.
URL:https://knoxstthomas.ca/event/three-of-a-kind-the-final-frontier/
LOCATION:Sanctuary
ATTACH;FMTTYPE=image/jpeg:https://knoxstthomas.ca/wp-content/uploads/2026/01/3oak-Knox-20261-e1767464412337.jpg
END:VEVENT
BEGIN:VEVENT
DTSTART;TZID=America/Toronto:20260125T113000
DTEND;TZID=America/Toronto:20260125T113000
DTSTAMP:20260420T143720
CREATED:20260103T184731Z
LAST-MODIFIED:20260103T184738Z
UID:2035-1769340600-1769340600@knoxstthomas.ca
SUMMARY:Robbie Burns Soup Luncheon
DESCRIPTION:Join us for haggis\, lunch and a poem! Donations for the Kirkin’ fund gratefully accepted.
URL:https://knoxstthomas.ca/event/robbie-burns-soup-luncheon/
LOCATION:Rodney Hall
ATTACH;FMTTYPE=image/jpeg:https://knoxstthomas.ca/wp-content/uploads/2025/01/robert_burns.jpg
END:VEVENT
END:VCALENDAR