BEGIN:VCALENDAR
VERSION:2.0
PRODID:-//Knox Presbyterian Church - ECPv6.15.15//NONSGML v1.0//EN
CALSCALE:GREGORIAN
METHOD:PUBLISH
X-WR-CALNAME:Knox Presbyterian Church
X-ORIGINAL-URL:https://knoxstthomas.ca
X-WR-CALDESC:Events for Knox Presbyterian Church
REFRESH-INTERVAL;VALUE=DURATION:PT1H
X-Robots-Tag:noindex
X-PUBLISHED-TTL:PT1H
BEGIN:VTIMEZONE
TZID:America/Toronto
BEGIN:DAYLIGHT
TZOFFSETFROM:-0500
TZOFFSETTO:-0400
TZNAME:EDT
DTSTART:20240310T070000
END:DAYLIGHT
BEGIN:STANDARD
TZOFFSETFROM:-0400
TZOFFSETTO:-0500
TZNAME:EST
DTSTART:20241103T060000
END:STANDARD
BEGIN:DAYLIGHT
TZOFFSETFROM:-0500
TZOFFSETTO:-0400
TZNAME:EDT
DTSTART:20250309T070000
END:DAYLIGHT
BEGIN:STANDARD
TZOFFSETFROM:-0400
TZOFFSETTO:-0500
TZNAME:EST
DTSTART:20251102T060000
END:STANDARD
BEGIN:DAYLIGHT
TZOFFSETFROM:-0500
TZOFFSETTO:-0400
TZNAME:EDT
DTSTART:20260308T070000
END:DAYLIGHT
BEGIN:STANDARD
TZOFFSETFROM:-0400
TZOFFSETTO:-0500
TZNAME:EST
DTSTART:20261101T060000
END:STANDARD
END:VTIMEZONE
BEGIN:VEVENT
DTSTART;TZID=America/Toronto:20251202T190000
DTEND;TZID=America/Toronto:20251202T190000
DTSTAMP:20260420T163213
CREATED:20251120T050215Z
LAST-MODIFIED:20251126T213011Z
UID:1981-1764702000-1764702000@knoxstthomas.ca
SUMMARY:"Warm the Winter's Chill" A Time for Remembering Service
DESCRIPTION:A non-denominational Service for all who are remembering loss this holiday season. Refreshments and conversation with faith-based leaders and community care-givers will follow the service.
URL:https://knoxstthomas.ca/event/warm-the-winters-chill-a-time-for-remembering-service/
LOCATION:Sanctuary
ATTACH;FMTTYPE=image/jpeg:https://knoxstthomas.ca/wp-content/uploads/2025/11/A-Time-for-Remembering-e1763614911703.jpg
END:VEVENT
BEGIN:VEVENT
DTSTART;TZID=America/Toronto:20251203T120000
DTEND;TZID=America/Toronto:20251203T130000
DTSTAMP:20260420T163213
CREATED:20251107T201555Z
LAST-MODIFIED:20251107T201555Z
UID:1968-1764763200-1764766800@knoxstthomas.ca
SUMMARY:Advent Organ Concert Series
DESCRIPTION:Featuring Chris Fischer. Admission $10\, includes lunch.
URL:https://knoxstthomas.ca/event/advent-organ-concert-series-3/
LOCATION:Sanctuary
ATTACH;FMTTYPE=image/png:https://knoxstthomas.ca/wp-content/uploads/2025/11/Adven-Organ-Event-Poster-e1762546026284.png
END:VEVENT
BEGIN:VEVENT
DTSTART;TZID=America/Toronto:20251206T090000
DTEND;TZID=America/Toronto:20251206T090000
DTSTAMP:20260420T163213
CREATED:20251130T032042Z
LAST-MODIFIED:20251130T032048Z
UID:1993-1765011600-1765011600@knoxstthomas.ca
SUMMARY:Knox Breakfast Club
DESCRIPTION:$2 per person or $5 per family for pancakes\, sausage\, fruit\, juice\, coffee\, tea & more.
URL:https://knoxstthomas.ca/event/knox-breakfast-club-7/
LOCATION:Rodney Hall
ATTACH;FMTTYPE=image/jpeg:https://knoxstthomas.ca/wp-content/uploads/2024/01/IMG_8855-rotated-e1732427504565.jpg
END:VEVENT
BEGIN:VEVENT
DTSTART;TZID=America/Toronto:20251206T140000
DTEND;TZID=America/Toronto:20251206T140000
DTSTAMP:20260420T163213
CREATED:20251205T194016Z
LAST-MODIFIED:20251205T194028Z
UID:1995-1765029600-1765029600@knoxstthomas.ca
SUMMARY:Festa Italiana
DESCRIPTION:Railway City Wind Ensemble presents “Festa Italiana” concert in our Knox sanctuary. Tickets available at the door.
URL:https://knoxstthomas.ca/event/festa-italiana/
LOCATION:Sanctuary
ATTACH;FMTTYPE=image/jpeg:https://knoxstthomas.ca/wp-content/uploads/2024/11/zdfgh-e1732427056972.jpeg
END:VEVENT
BEGIN:VEVENT
DTSTART;TZID=America/Toronto:20251210T120000
DTEND;TZID=America/Toronto:20251210T130000
DTSTAMP:20260420T163213
CREATED:20251107T201653Z
LAST-MODIFIED:20251107T201653Z
UID:1970-1765368000-1765371600@knoxstthomas.ca
SUMMARY:Advent Organ Concert Series
DESCRIPTION:Featuring Ryan Baxter & Jingquan Xie. Admission $10\, includes lunch.
URL:https://knoxstthomas.ca/event/advent-organ-concert-series-4/
LOCATION:Sanctuary
ATTACH;FMTTYPE=image/png:https://knoxstthomas.ca/wp-content/uploads/2025/11/Adven-Organ-Event-Poster-e1762546026284.png
END:VEVENT
BEGIN:VEVENT
DTSTART;TZID=America/Toronto:20251214T103000
DTEND;TZID=America/Toronto:20251214T113000
DTSTAMP:20260420T163213
CREATED:20251205T194145Z
LAST-MODIFIED:20251205T194152Z
UID:1997-1765708200-1765711800@knoxstthomas.ca
SUMMARY:Pageant Sunday
DESCRIPTION:Please join us for Christmas in July: A Camp Kintail Story.
URL:https://knoxstthomas.ca/event/pageant-sunday-2/
LOCATION:Sanctuary
ATTACH;FMTTYPE=image/jpeg:https://knoxstthomas.ca/wp-content/uploads/2024/12/CR5_0297_TV.jpg
END:VEVENT
BEGIN:VEVENT
DTSTART;TZID=America/Toronto:20251224T180000
DTEND;TZID=America/Toronto:20251224T180000
DTSTAMP:20260420T163213
CREATED:20251220T232435Z
LAST-MODIFIED:20251220T232519Z
UID:2019-1766599200-1766599200@knoxstthomas.ca
SUMMARY:Family Christmas Service
DESCRIPTION:A short Christmas service for families with young kids\, capturing the joy of the season.
URL:https://knoxstthomas.ca/event/family-christmas-service-2/
LOCATION:Sanctuary
ATTACH;FMTTYPE=image/jpeg:https://knoxstthomas.ca/wp-content/uploads/2024/12/CR5_0347_TV.jpg
END:VEVENT
BEGIN:VEVENT
DTSTART;TZID=America/Toronto:20251224T200000
DTEND;TZID=America/Toronto:20251224T210000
DTSTAMP:20260420T163213
CREATED:20251220T232326Z
LAST-MODIFIED:20251220T232326Z
UID:2017-1766606400-1766610000@knoxstthomas.ca
SUMMARY:Christmas Service
DESCRIPTION:A traditional Christmas service. Featuring the Knox choir and brass ensemble.
URL:https://knoxstthomas.ca/event/christmas-service-2/
LOCATION:Sanctuary
ATTACH;FMTTYPE=image/jpeg:https://knoxstthomas.ca/wp-content/uploads/2024/12/sanctuary-Christmas.jpg
END:VEVENT
END:VCALENDAR