BEGIN:VCALENDAR
VERSION:2.0
PRODID:-//Knox Presbyterian Church - ECPv6.15.15//NONSGML v1.0//EN
CALSCALE:GREGORIAN
METHOD:PUBLISH
X-ORIGINAL-URL:https://knoxstthomas.ca
X-WR-CALDESC:Events for Knox Presbyterian Church
REFRESH-INTERVAL;VALUE=DURATION:PT1H
X-Robots-Tag:noindex
X-PUBLISHED-TTL:PT1H
BEGIN:VTIMEZONE
TZID:America/Toronto
BEGIN:DAYLIGHT
TZOFFSETFROM:-0500
TZOFFSETTO:-0400
TZNAME:EDT
DTSTART:20240310T070000
END:DAYLIGHT
BEGIN:STANDARD
TZOFFSETFROM:-0400
TZOFFSETTO:-0500
TZNAME:EST
DTSTART:20241103T060000
END:STANDARD
BEGIN:DAYLIGHT
TZOFFSETFROM:-0500
TZOFFSETTO:-0400
TZNAME:EDT
DTSTART:20250309T070000
END:DAYLIGHT
BEGIN:STANDARD
TZOFFSETFROM:-0400
TZOFFSETTO:-0500
TZNAME:EST
DTSTART:20251102T060000
END:STANDARD
BEGIN:DAYLIGHT
TZOFFSETFROM:-0500
TZOFFSETTO:-0400
TZNAME:EDT
DTSTART:20260308T070000
END:DAYLIGHT
BEGIN:STANDARD
TZOFFSETFROM:-0400
TZOFFSETTO:-0500
TZNAME:EST
DTSTART:20261101T060000
END:STANDARD
END:VTIMEZONE
BEGIN:VEVENT
DTSTART;TZID=America/Toronto:20251005T103000
DTEND;TZID=America/Toronto:20251005T113000
DTSTAMP:20260420T202523
CREATED:20250918T145601Z
LAST-MODIFIED:20250918T145601Z
UID:1912-1759660200-1759663800@knoxstthomas.ca
SUMMARY:World Communion Sunday
DESCRIPTION:
URL:https://knoxstthomas.ca/event/world-communion-sunday/
LOCATION:Sanctuary
ATTACH;FMTTYPE=image/png:https://knoxstthomas.ca/wp-content/uploads/2025/09/worldcom.png
END:VEVENT
BEGIN:VEVENT
DTSTART;TZID=America/Toronto:20251019T113000
DTEND;TZID=America/Toronto:20251019T123000
DTSTAMP:20260420T202523
CREATED:20250918T145721Z
LAST-MODIFIED:20250918T145721Z
UID:1915-1760873400-1760877000@knoxstthomas.ca
SUMMARY:Foodgrains Luncheon
DESCRIPTION:
URL:https://knoxstthomas.ca/event/foodgrains-luncheon/
LOCATION:Rodney Hall
ATTACH;FMTTYPE=image/webp:https://knoxstthomas.ca/wp-content/uploads/2023/10/foodgrains2.webp
END:VEVENT
BEGIN:VEVENT
DTSTART;TZID=America/Toronto:20251029T180000
DTEND;TZID=America/Toronto:20251029T190000
DTSTAMP:20260420T202523
CREATED:20251019T193629Z
LAST-MODIFIED:20251019T193629Z
UID:1942-1761760800-1761764400@knoxstthomas.ca
SUMMARY:Pumpkin Carving Night
DESCRIPTION:All supplies included! $5 per family or $2 per person.
URL:https://knoxstthomas.ca/event/pumpkin-carving-night/
LOCATION:Rodney Hall
ATTACH;FMTTYPE=image/jpeg:https://knoxstthomas.ca/wp-content/uploads/2025/10/Pumpkin-Carving-Flyer-e1760902579899.jpg
END:VEVENT
END:VCALENDAR