BEGIN:VCALENDAR
VERSION:2.0
PRODID:-//Knox Presbyterian Church - ECPv6.15.15//NONSGML v1.0//EN
CALSCALE:GREGORIAN
METHOD:PUBLISH
X-WR-CALNAME:Knox Presbyterian Church
X-ORIGINAL-URL:https://knoxstthomas.ca
X-WR-CALDESC:Events for Knox Presbyterian Church
REFRESH-INTERVAL;VALUE=DURATION:PT1H
X-Robots-Tag:noindex
X-PUBLISHED-TTL:PT1H
BEGIN:VTIMEZONE
TZID:America/Toronto
BEGIN:DAYLIGHT
TZOFFSETFROM:-0500
TZOFFSETTO:-0400
TZNAME:EDT
DTSTART:20240310T070000
END:DAYLIGHT
BEGIN:STANDARD
TZOFFSETFROM:-0400
TZOFFSETTO:-0500
TZNAME:EST
DTSTART:20241103T060000
END:STANDARD
BEGIN:DAYLIGHT
TZOFFSETFROM:-0500
TZOFFSETTO:-0400
TZNAME:EDT
DTSTART:20250309T070000
END:DAYLIGHT
BEGIN:STANDARD
TZOFFSETFROM:-0400
TZOFFSETTO:-0500
TZNAME:EST
DTSTART:20251102T060000
END:STANDARD
BEGIN:DAYLIGHT
TZOFFSETFROM:-0500
TZOFFSETTO:-0400
TZNAME:EDT
DTSTART:20260308T070000
END:DAYLIGHT
BEGIN:STANDARD
TZOFFSETFROM:-0400
TZOFFSETTO:-0500
TZNAME:EST
DTSTART:20261101T060000
END:STANDARD
END:VTIMEZONE
BEGIN:VEVENT
DTSTART;TZID=America/Toronto:20251206T090000
DTEND;TZID=America/Toronto:20251206T090000
DTSTAMP:20260420T183347
CREATED:20251130T032042Z
LAST-MODIFIED:20251130T032048Z
UID:1993-1765011600-1765011600@knoxstthomas.ca
SUMMARY:Knox Breakfast Club
DESCRIPTION:$2 per person or $5 per family for pancakes\, sausage\, fruit\, juice\, coffee\, tea & more.
URL:https://knoxstthomas.ca/event/knox-breakfast-club-7/
LOCATION:Rodney Hall
ATTACH;FMTTYPE=image/jpeg:https://knoxstthomas.ca/wp-content/uploads/2024/01/IMG_8855-rotated-e1732427504565.jpg
END:VEVENT
BEGIN:VEVENT
DTSTART;TZID=America/Toronto:20251206T140000
DTEND;TZID=America/Toronto:20251206T140000
DTSTAMP:20260420T183347
CREATED:20251205T194016Z
LAST-MODIFIED:20251205T194028Z
UID:1995-1765029600-1765029600@knoxstthomas.ca
SUMMARY:Festa Italiana
DESCRIPTION:Railway City Wind Ensemble presents “Festa Italiana” concert in our Knox sanctuary. Tickets available at the door.
URL:https://knoxstthomas.ca/event/festa-italiana/
LOCATION:Sanctuary
ATTACH;FMTTYPE=image/jpeg:https://knoxstthomas.ca/wp-content/uploads/2024/11/zdfgh-e1732427056972.jpeg
END:VEVENT
END:VCALENDAR