BEGIN:VCALENDAR
VERSION:2.0
PRODID:-//Knox Presbyterian Church - ECPv6.15.15//NONSGML v1.0//EN
CALSCALE:GREGORIAN
METHOD:PUBLISH
X-WR-CALNAME:Knox Presbyterian Church
X-ORIGINAL-URL:https://knoxstthomas.ca
X-WR-CALDESC:Events for Knox Presbyterian Church
REFRESH-INTERVAL;VALUE=DURATION:PT1H
X-Robots-Tag:noindex
X-PUBLISHED-TTL:PT1H
BEGIN:VTIMEZONE
TZID:America/Toronto
BEGIN:DAYLIGHT
TZOFFSETFROM:-0500
TZOFFSETTO:-0400
TZNAME:EDT
DTSTART:20240310T070000
END:DAYLIGHT
BEGIN:STANDARD
TZOFFSETFROM:-0400
TZOFFSETTO:-0500
TZNAME:EST
DTSTART:20241103T060000
END:STANDARD
BEGIN:DAYLIGHT
TZOFFSETFROM:-0500
TZOFFSETTO:-0400
TZNAME:EDT
DTSTART:20250309T070000
END:DAYLIGHT
BEGIN:STANDARD
TZOFFSETFROM:-0400
TZOFFSETTO:-0500
TZNAME:EST
DTSTART:20251102T060000
END:STANDARD
BEGIN:DAYLIGHT
TZOFFSETFROM:-0500
TZOFFSETTO:-0400
TZNAME:EDT
DTSTART:20260308T070000
END:DAYLIGHT
BEGIN:STANDARD
TZOFFSETFROM:-0400
TZOFFSETTO:-0500
TZNAME:EST
DTSTART:20261101T060000
END:STANDARD
END:VTIMEZONE
BEGIN:VEVENT
DTSTART;TZID=America/Toronto:20250907T113000
DTEND;TZID=America/Toronto:20250907T113000
DTSTAMP:20260422T160826
CREATED:20250902T172130Z
LAST-MODIFIED:20250902T175541Z
UID:1890-1757244600-1757244600@knoxstthomas.ca
SUMMARY:Tartan Exchange
DESCRIPTION:Don’t have a kilt? Adopt a tartan kilt or tie for yourself with a donation! Kilt too small for  your child? You can exchange it for a larger size! The Tartan Exchange will be held in Rodney Hall after the service.
URL:https://knoxstthomas.ca/event/tartan-exchange/
LOCATION:Rodney Hall
ATTACH;FMTTYPE=image/jpeg:https://knoxstthomas.ca/wp-content/uploads/2025/09/20230917_094852-002-e1756833672949.jpg
END:VEVENT
END:VCALENDAR